BEGIN:VCALENDAR
VERSION:2.0
PRODID:-//Highlands Biological Station - ECPv6.15.20//NONSGML v1.0//EN
CALSCALE:GREGORIAN
METHOD:PUBLISH
X-ORIGINAL-URL:https://highlandsbiological.org
X-WR-CALDESC:Events for Highlands Biological Station
REFRESH-INTERVAL;VALUE=DURATION:PT1H
X-Robots-Tag:noindex
X-PUBLISHED-TTL:PT1H
BEGIN:VTIMEZONE
TZID:America/Halifax
BEGIN:DAYLIGHT
TZOFFSETFROM:-0400
TZOFFSETTO:-0300
TZNAME:ADT
DTSTART:20220313T060000
END:DAYLIGHT
BEGIN:STANDARD
TZOFFSETFROM:-0300
TZOFFSETTO:-0400
TZNAME:AST
DTSTART:20221106T050000
END:STANDARD
BEGIN:DAYLIGHT
TZOFFSETFROM:-0400
TZOFFSETTO:-0300
TZNAME:ADT
DTSTART:20230312T060000
END:DAYLIGHT
BEGIN:STANDARD
TZOFFSETFROM:-0300
TZOFFSETTO:-0400
TZNAME:AST
DTSTART:20231105T050000
END:STANDARD
BEGIN:DAYLIGHT
TZOFFSETFROM:-0400
TZOFFSETTO:-0300
TZNAME:ADT
DTSTART:20240310T060000
END:DAYLIGHT
BEGIN:STANDARD
TZOFFSETFROM:-0300
TZOFFSETTO:-0400
TZNAME:AST
DTSTART:20241103T050000
END:STANDARD
END:VTIMEZONE
BEGIN:VEVENT
DTSTART;TZID=America/Halifax:20230803T180000
DTEND;TZID=America/Halifax:20230803T190000
DTSTAMP:20260423T130050
CREATED:20230526T191830Z
LAST-MODIFIED:20230526T191830Z
UID:21634-1691085600-1691089200@highlandsbiological.org
SUMMARY:Zahner Lecture 8
DESCRIPTION:Lecture 8 – Archaeoastronomy in Southwestern North Carolina\n\nFeatured Speakers: Jane M. Eastman\, Ph.D.; Associate Professor; Anthropology and Sociology Department; Western Carolina University\n& Brett Riggs\, Ph.D.; Sequoyah Distinguished Professor of Cherokee Studies; Western Carolina University \nDate: Thursday\, August 3rd\nTime: 6pm – 7pm\nCost: FREE \nSponsored by Suzanne & Don Duggan\, Julie Farrow\, Florence & Tom Holmes\, Ruthie & Franko Oliver\, Adele & Nick Scielzo\, and Margaret Waters. \nIn ancient Cherokee perspective\, the matters of this world\, the Above World and the Beneath World intertwine\, and Cherokee peoples constructed ritual landscapes to engage the beings and forces of these realms. Recent investigations in the Little Tennessee River Valley have revealed one such landscape that marks astronomical phenomena and bespeaks sophisticated systems for measuring calendrical time and the cycles central to Cherokee life. These patterns indicate complex observational sciences that guided functions of indigenous societies long before European contact.
URL:https://highlandsbiological.org/event/zahner-lecture-8/
LOCATION:Highlands Nature Center\, 930 Horse Cove Rd.\, Highlands\, NC\, 28741\, United States
CATEGORIES:Zahner Lecture
ATTACH;FMTTYPE=image/png:https://highlandsbiological.org/wp-content/uploads/2023/05/2023-11.png
END:VEVENT
END:VCALENDAR