BEGIN:VCALENDAR
VERSION:2.0
PRODID:-//Highlands Biological Station - ECPv6.15.20//NONSGML v1.0//EN
CALSCALE:GREGORIAN
METHOD:PUBLISH
X-ORIGINAL-URL:https://highlandsbiological.org
X-WR-CALDESC:Events for Highlands Biological Station
REFRESH-INTERVAL;VALUE=DURATION:PT1H
X-Robots-Tag:noindex
X-PUBLISHED-TTL:PT1H
BEGIN:VTIMEZONE
TZID:America/Halifax
BEGIN:DAYLIGHT
TZOFFSETFROM:-0400
TZOFFSETTO:-0300
TZNAME:ADT
DTSTART:20220313T060000
END:DAYLIGHT
BEGIN:STANDARD
TZOFFSETFROM:-0300
TZOFFSETTO:-0400
TZNAME:AST
DTSTART:20221106T050000
END:STANDARD
BEGIN:DAYLIGHT
TZOFFSETFROM:-0400
TZOFFSETTO:-0300
TZNAME:ADT
DTSTART:20230312T060000
END:DAYLIGHT
BEGIN:STANDARD
TZOFFSETFROM:-0300
TZOFFSETTO:-0400
TZNAME:AST
DTSTART:20231105T050000
END:STANDARD
BEGIN:DAYLIGHT
TZOFFSETFROM:-0400
TZOFFSETTO:-0300
TZNAME:ADT
DTSTART:20240310T060000
END:DAYLIGHT
BEGIN:STANDARD
TZOFFSETFROM:-0300
TZOFFSETTO:-0400
TZNAME:AST
DTSTART:20241103T050000
END:STANDARD
END:VTIMEZONE
BEGIN:VEVENT
DTSTART;TZID=America/Halifax:20230706T180000
DTEND;TZID=America/Halifax:20230706T190000
DTSTAMP:20260423T145523
CREATED:20230526T191426Z
LAST-MODIFIED:20230526T191426Z
UID:21626-1688666400-1688670000@highlandsbiological.org
SUMMARY:Zahner Lecture 4
DESCRIPTION:Lecture 4 – The Geology That Has Shaped the Highlands-Cashiers Plateau\n\nFeatured Speaker: Bill Jacobs\, Geology Enthusiast and Author of Whence These Special Places – The Geology of Cashiers\, Highlands & Panthertown Valley \nDate: Thursday\, July 6th\nTime: 6pm – 7pm\nCost: FREE \nSponsored by Anne & Dick Goodsell: The Claude Sullivan Geology Initiative \nThe Highlands-Cashiers Plateau is a unique landscape\, with high valleys\, an extraordinary array of waterfalls and mountains\, and rich biodiversity. In this lecture\, we will explore the geologic processes\, stretching back over 500 million years\, that have created the Plateau and shaped today’s special landscape. Our speaker will use concepts and language comfortable for the non-scientist and will discuss how geology\, some of it ancient and some much more recent\, has determined the character and appearance of both the broader Plateau and many of its specific mountains and waterfalls.
URL:https://highlandsbiological.org/event/zahner-lecture-4/
LOCATION:Highlands Nature Center\, 930 Horse Cove Rd.\, Highlands\, NC\, 28741\, United States
CATEGORIES:Zahner Lecture
ATTACH;FMTTYPE=image/png:https://highlandsbiological.org/wp-content/uploads/2023/05/2023-12.png
END:VEVENT
END:VCALENDAR