BEGIN:VCALENDAR
VERSION:2.0
PRODID:-//Highlands Biological Station - ECPv6.15.20//NONSGML v1.0//EN
CALSCALE:GREGORIAN
METHOD:PUBLISH
X-ORIGINAL-URL:https://highlandsbiological.org
X-WR-CALDESC:Events for Highlands Biological Station
REFRESH-INTERVAL;VALUE=DURATION:PT1H
X-Robots-Tag:noindex
X-PUBLISHED-TTL:PT1H
BEGIN:VTIMEZONE
TZID:America/Halifax
BEGIN:DAYLIGHT
TZOFFSETFROM:-0400
TZOFFSETTO:-0300
TZNAME:ADT
DTSTART:20220313T060000
END:DAYLIGHT
BEGIN:STANDARD
TZOFFSETFROM:-0300
TZOFFSETTO:-0400
TZNAME:AST
DTSTART:20221106T050000
END:STANDARD
BEGIN:DAYLIGHT
TZOFFSETFROM:-0400
TZOFFSETTO:-0300
TZNAME:ADT
DTSTART:20230312T060000
END:DAYLIGHT
BEGIN:STANDARD
TZOFFSETFROM:-0300
TZOFFSETTO:-0400
TZNAME:AST
DTSTART:20231105T050000
END:STANDARD
BEGIN:DAYLIGHT
TZOFFSETFROM:-0400
TZOFFSETTO:-0300
TZNAME:ADT
DTSTART:20240310T060000
END:DAYLIGHT
BEGIN:STANDARD
TZOFFSETFROM:-0300
TZOFFSETTO:-0400
TZNAME:AST
DTSTART:20241103T050000
END:STANDARD
END:VTIMEZONE
BEGIN:VEVENT
DTSTART;TZID=America/Halifax:20230629T180000
DTEND;TZID=America/Halifax:20230629T190000
DTSTAMP:20260423T145525
CREATED:20230526T191329Z
LAST-MODIFIED:20230526T191329Z
UID:21624-1688061600-1688065200@highlandsbiological.org
SUMMARY:Zahner Lecture 3
DESCRIPTION:Lecture 3 – Microplastic Pollution in Marine and Freshwater Ecosystems\n\nFeatured Speaker: Austin D. Gray\, Ph.D.; Assistant Professor of Biological Sciences; Virginia Tech \nDate: Thursday\, June 29th\nTime: 6pm – 7pm\nCost: FREE \nSponsored by Jennifer & Forrest McConnell and Jennie Stowers. \nPlastic pollution poses one of the greatest global risks to freshwater and marine ecosystems. The formation of microplastics from plastic debris has been shown to alter aquatic ecosystems by disrupting biota populations. In this talk\, topics surrounding plastic pollution\, microplastic occurrence and distribution\, toxicological impacts of microplastics\, toxicokinetic aspects of microplastic uptake and depuration\, and microplastic formation rates in marine and freshwater habitats will be discussed.
URL:https://highlandsbiological.org/event/zahner-lecture-3/
LOCATION:Highlands Nature Center\, 930 Horse Cove Rd.\, Highlands\, NC\, 28741\, United States
CATEGORIES:Zahner Lecture
ATTACH;FMTTYPE=image/png:https://highlandsbiological.org/wp-content/uploads/2023/05/2023-2.png
END:VEVENT
END:VCALENDAR