BEGIN:VCALENDAR
VERSION:2.0
PRODID:-//Highlands Biological Station - ECPv6.15.20//NONSGML v1.0//EN
CALSCALE:GREGORIAN
METHOD:PUBLISH
X-WR-CALNAME:Highlands Biological Station
X-ORIGINAL-URL:https://highlandsbiological.org
X-WR-CALDESC:Events for Highlands Biological Station
REFRESH-INTERVAL;VALUE=DURATION:PT1H
X-Robots-Tag:noindex
X-PUBLISHED-TTL:PT1H
BEGIN:VTIMEZONE
TZID:America/Halifax
BEGIN:DAYLIGHT
TZOFFSETFROM:-0400
TZOFFSETTO:-0300
TZNAME:ADT
DTSTART:20220313T060000
END:DAYLIGHT
BEGIN:STANDARD
TZOFFSETFROM:-0300
TZOFFSETTO:-0400
TZNAME:AST
DTSTART:20221106T050000
END:STANDARD
BEGIN:DAYLIGHT
TZOFFSETFROM:-0400
TZOFFSETTO:-0300
TZNAME:ADT
DTSTART:20230312T060000
END:DAYLIGHT
BEGIN:STANDARD
TZOFFSETFROM:-0300
TZOFFSETTO:-0400
TZNAME:AST
DTSTART:20231105T050000
END:STANDARD
BEGIN:DAYLIGHT
TZOFFSETFROM:-0400
TZOFFSETTO:-0300
TZNAME:ADT
DTSTART:20240310T060000
END:DAYLIGHT
BEGIN:STANDARD
TZOFFSETFROM:-0300
TZOFFSETTO:-0400
TZNAME:AST
DTSTART:20241103T050000
END:STANDARD
END:VTIMEZONE
BEGIN:VEVENT
DTSTART;TZID=America/Halifax:20230622T180000
DTEND;TZID=America/Halifax:20230622T190000
DTSTAMP:20260423T163331
CREATED:20230526T191234Z
LAST-MODIFIED:20230526T191234Z
UID:21622-1687456800-1687460400@highlandsbiological.org
SUMMARY:Zahner Lecture 2
DESCRIPTION:Lecture 2 – Native Plants for the Vegetable Garden\n\nFeatured Speaker: Adam Bigelow; Plant Nerd and Guide; Bigelow’s Botanical Excursions \nDate: Thursday\, June 22nd\nTime: 6pm – 7pm\nCost: FREE \nSponsored by Vicki & Donny Ferguson. \nNative plants benefit us\, our gardens\, and the landscapes and ecosystems we depend on. Learn about the benefits of native plants and the harm caused by invasive plants. We will discuss how native plants can attract beneficial insects\, beautify vegetable and flower gardens\, and provide nutrition to the dinner plate\, and help fill all of the roles that plants provide to our vegetable gardens and landscapes.
URL:https://highlandsbiological.org/event/zahner-lecture-2/
LOCATION:Highlands Nature Center\, 930 Horse Cove Rd.\, Highlands\, NC\, 28741\, United States
CATEGORIES:Zahner Lecture
ATTACH;FMTTYPE=image/png:https://highlandsbiological.org/wp-content/uploads/2023/05/2023-1.png
END:VEVENT
END:VCALENDAR