BEGIN:VCALENDAR
VERSION:2.0
PRODID:-//Highlands Biological Station - ECPv6.15.20//NONSGML v1.0//EN
CALSCALE:GREGORIAN
METHOD:PUBLISH
X-ORIGINAL-URL:https://highlandsbiological.org
X-WR-CALDESC:Events for Highlands Biological Station
REFRESH-INTERVAL;VALUE=DURATION:PT1H
X-Robots-Tag:noindex
X-PUBLISHED-TTL:PT1H
BEGIN:VTIMEZONE
TZID:America/Halifax
BEGIN:DAYLIGHT
TZOFFSETFROM:-0400
TZOFFSETTO:-0300
TZNAME:ADT
DTSTART:20220313T060000
END:DAYLIGHT
BEGIN:STANDARD
TZOFFSETFROM:-0300
TZOFFSETTO:-0400
TZNAME:AST
DTSTART:20221106T050000
END:STANDARD
BEGIN:DAYLIGHT
TZOFFSETFROM:-0400
TZOFFSETTO:-0300
TZNAME:ADT
DTSTART:20230312T060000
END:DAYLIGHT
BEGIN:STANDARD
TZOFFSETFROM:-0300
TZOFFSETTO:-0400
TZNAME:AST
DTSTART:20231105T050000
END:STANDARD
BEGIN:DAYLIGHT
TZOFFSETFROM:-0400
TZOFFSETTO:-0300
TZNAME:ADT
DTSTART:20240310T060000
END:DAYLIGHT
BEGIN:STANDARD
TZOFFSETFROM:-0300
TZOFFSETTO:-0400
TZNAME:AST
DTSTART:20241103T050000
END:STANDARD
END:VTIMEZONE
BEGIN:VEVENT
DTSTART;TZID=America/Halifax:20230615T180000
DTEND;TZID=America/Halifax:20230615T190000
DTSTAMP:20260423T163629
CREATED:20230526T191131Z
LAST-MODIFIED:20230526T191131Z
UID:21620-1686852000-1686855600@highlandsbiological.org
SUMMARY:Zahner Lecture 1
DESCRIPTION:Lecture 1 – Birds\, Big Data\, and Citizen Science: Understanding the Impacts of Global Change\nFeatured Speaker: Allen Hurlbert\, Ph.D.; Professor of Biology; University of North Carolina at Chapel Hill \nDate: Thursday\, June 15th\nTime: 6pm – 7pm\nCost: FREE \nSponsored by Kim & Rich Daugherty and Kathy & Bestor Ward. \nAs the world undergoes various facets of environmental change – from warming to habitat loss to shifts in seasonality – everyday people can help scientists understand the impacts on natural ecosystems through citizen science. In this talk\, Dr. Allen Hurlbert will provide examples of how citizen science has enhanced our understanding of how global change is impacting birds\, as well as insect bird food\, across North America\, and how you can help these efforts.
URL:https://highlandsbiological.org/event/zahner-lecture-1/
LOCATION:Highlands Nature Center\, 930 Horse Cove Rd.\, Highlands\, NC\, 28741\, United States
CATEGORIES:Zahner Lecture
ATTACH;FMTTYPE=image/png:https://highlandsbiological.org/wp-content/uploads/2023/05/2023.png
END:VEVENT
END:VCALENDAR