BEGIN:VCALENDAR
VERSION:2.0
PRODID:-//Highlands Biological Station - ECPv6.15.20//NONSGML v1.0//EN
CALSCALE:GREGORIAN
METHOD:PUBLISH
X-ORIGINAL-URL:https://highlandsbiological.org
X-WR-CALDESC:Events for Highlands Biological Station
REFRESH-INTERVAL;VALUE=DURATION:PT1H
X-Robots-Tag:noindex
X-PUBLISHED-TTL:PT1H
BEGIN:VTIMEZONE
TZID:America/Halifax
BEGIN:DAYLIGHT
TZOFFSETFROM:-0400
TZOFFSETTO:-0300
TZNAME:ADT
DTSTART:20220313T060000
END:DAYLIGHT
BEGIN:STANDARD
TZOFFSETFROM:-0300
TZOFFSETTO:-0400
TZNAME:AST
DTSTART:20221106T050000
END:STANDARD
BEGIN:DAYLIGHT
TZOFFSETFROM:-0400
TZOFFSETTO:-0300
TZNAME:ADT
DTSTART:20230312T060000
END:DAYLIGHT
BEGIN:STANDARD
TZOFFSETFROM:-0300
TZOFFSETTO:-0400
TZNAME:AST
DTSTART:20231105T050000
END:STANDARD
BEGIN:DAYLIGHT
TZOFFSETFROM:-0400
TZOFFSETTO:-0300
TZNAME:ADT
DTSTART:20240310T060000
END:DAYLIGHT
BEGIN:STANDARD
TZOFFSETFROM:-0300
TZOFFSETTO:-0400
TZNAME:AST
DTSTART:20241103T050000
END:STANDARD
END:VTIMEZONE
BEGIN:VEVENT
DTSTART;TZID=America/Halifax:20230621T210000
DTEND;TZID=America/Halifax:20230621T220000
DTSTAMP:20260422T215218
CREATED:20230526T184812Z
LAST-MODIFIED:20230526T184812Z
UID:21596-1687381200-1687384800@highlandsbiological.org
SUMMARY:Folklore & Explore
DESCRIPTION:June 21st (Register HERE)            \n9 – 10 PM \nFREE\, all ages welcome \nRegistration required \nCurious about old wives’ tales\, superstitions\, & Sasquatch?  Explore the natural\, night-time beauty of the Botanical Garden while unearthing fascinating tales of Appalachian lore. Please bring a flashlight for this adventure! This program is weather-dependent.
URL:https://highlandsbiological.org/event/folklore-explore-2/
LOCATION:Highlands Nature Center\, 930 Horse Cove Rd.\, Highlands\, NC\, 28741\, United States
CATEGORIES:Nature Center Nights
ATTACH;FMTTYPE=image/png:https://highlandsbiological.org/wp-content/uploads/2023/04/NCNs-SS-GB-ABE-21.png
END:VEVENT
END:VCALENDAR