BEGIN:VCALENDAR
VERSION:2.0
PRODID:-//Highlands Biological Station - ECPv6.15.20//NONSGML v1.0//EN
CALSCALE:GREGORIAN
METHOD:PUBLISH
X-WR-CALNAME:Highlands Biological Station
X-ORIGINAL-URL:https://highlandsbiological.org
X-WR-CALDESC:Events for Highlands Biological Station
REFRESH-INTERVAL;VALUE=DURATION:PT1H
X-Robots-Tag:noindex
X-PUBLISHED-TTL:PT1H
BEGIN:VTIMEZONE
TZID:America/Halifax
BEGIN:DAYLIGHT
TZOFFSETFROM:-0400
TZOFFSETTO:-0300
TZNAME:ADT
DTSTART:20220313T060000
END:DAYLIGHT
BEGIN:STANDARD
TZOFFSETFROM:-0300
TZOFFSETTO:-0400
TZNAME:AST
DTSTART:20221106T050000
END:STANDARD
BEGIN:DAYLIGHT
TZOFFSETFROM:-0400
TZOFFSETTO:-0300
TZNAME:ADT
DTSTART:20230312T060000
END:DAYLIGHT
BEGIN:STANDARD
TZOFFSETFROM:-0300
TZOFFSETTO:-0400
TZNAME:AST
DTSTART:20231105T050000
END:STANDARD
BEGIN:DAYLIGHT
TZOFFSETFROM:-0400
TZOFFSETTO:-0300
TZNAME:ADT
DTSTART:20240310T060000
END:DAYLIGHT
BEGIN:STANDARD
TZOFFSETFROM:-0300
TZOFFSETTO:-0400
TZNAME:AST
DTSTART:20241103T050000
END:STANDARD
END:VTIMEZONE
BEGIN:VEVENT
DTSTART;VALUE=DATE:20230710
DTEND;VALUE=DATE:20230715
DTSTAMP:20260420T094538
CREATED:20230104T165518Z
LAST-MODIFIED:20230104T165518Z
UID:20847-1688947200-1689379199@highlandsbiological.org
SUMMARY:Introduction to Brightfield and Fluorescence Microscopies
DESCRIPTION:Instructor: Dr. Bob Youker (Western Carolina University) \nIn this lecture/lab course\, students will learn how to prepare their field samples for brightfield and fluorescence microscopic examination. Students will also learn how microscopes generate images\, the experimental conditions needed for optimal imaging of their specimens\, and learn basic image processing techniques for analysis. The course will be a combination of lecture and hands on specimen preparation and imaging (lab). Students can either provide specimens from their field research\, or work with the instructor to collect rotifers and other aquatic micro-invertebrates from the field to use in the lab portion.    \nLab time will be centered on learning the parts and functions of modern brightfield and fluorescence (widefield & confocal) microscopes\, preparing specimens (e.g.\, staining with fluorescent dyes)\, and acquiring images of their specimens for analysis. Students will learn to acquire images using a widefield fluorescence microscope and take a “field trip” to WCU to use the state-of-the-art Leica Stellaris 5 confocal microscope. We will also discuss some other modern approaches to fluorescence microscopy\, such as electron and super-resolution microscopies.  \nEach student will prepare a final report that compares brightfield to fluorescence images taken of their samples. The student will explain in detail the features observed using both methodologies and the advantages and disadvantages of each method. The student will also give a short oral presentation on one microscopic technique not covered in the course and this topic will be selected from a list provided by the instructor. \nPre-requisites: Introductory biology sequence\n \n\nFor more information\, visit https://highlandsbiological.org/summer-2023-academic-courses/.
URL:https://highlandsbiological.org/event/introduction-to-brightfield-and-fluorescence-microscopies/
LOCATION:Highlands Biological Station\, 265 North 6th St\, Highlands\, NC\, 28741\, United States
CATEGORIES:Field Courses
END:VEVENT
BEGIN:VEVENT
DTSTART;VALUE=DATE:20230717
DTEND;VALUE=DATE:20230729
DTSTAMP:20260420T094538
CREATED:20230104T165638Z
LAST-MODIFIED:20230104T165638Z
UID:20849-1689552000-1690588799@highlandsbiological.org
SUMMARY:Forest Ecosystems of the Southern Appalachians
DESCRIPTION:Instructors: Dr. Steph Jeffries (NC State Univesity)\, Dr. Alan Weakley (UNC-Chapel Hill)\, and Dr. Julie Tuttle (UNC-Chapel Hill) \nCheck back later for a description and pre-requisites.\n \n\nFor more information\, visit https://highlandsbiological.org/summer-2023-academic-courses/.
URL:https://highlandsbiological.org/event/forest-ecosystems-of-the-southern-appalachians/
LOCATION:Highlands Biological Station\, 265 North 6th St\, Highlands\, NC\, 28741\, United States
CATEGORIES:Field Courses
END:VEVENT
BEGIN:VEVENT
DTSTART;VALUE=DATE:20230731
DTEND;VALUE=DATE:20230812
DTSTAMP:20260420T094538
CREATED:20230104T165751Z
LAST-MODIFIED:20230104T165751Z
UID:20851-1690761600-1691798399@highlandsbiological.org
SUMMARY:Fleshy Fungi of the Southern Blue Ridge
DESCRIPTION:Instructor: Dr. Andy Methven (Eastern Illinois University\, Emeritus) \n\nStudents will be introduced to the fleshy fungi (Ascomycetes and Basidiomycetes) that occur on the Highlands Plateau. Emphasis will be placed on the analysis of macro- and micro-morphological features in the identification of genera and species as well as the ecological role of fungi in the ecosystem. Additional topics may be added depending on student interest. The daily routine will consist of a morning lecture followed by a field trip until early afternoon. Collections will be examined and identified after returning from the field and an opportunity provided to assemble a collection of dried fleshy fungi. Microscopes and chemical reagents necessary for accurate species determinations will be available for use. The laboratory will be open in the evenings for additional study of collections. \nPre-requisites: Introductory biology\, ecology\, or permission of instructor \n\nFor more information\, visit https://highlandsbiological.org/summer-2023-academic-courses/.
URL:https://highlandsbiological.org/event/fleshy-fungi-of-the-southern-blue-ridge/
LOCATION:Highlands Biological Station\, 265 North 6th St\, Highlands\, NC\, 28741\, United States
CATEGORIES:Field Courses
END:VEVENT
END:VCALENDAR