BEGIN:VCALENDAR
VERSION:2.0
PRODID:-//Highlands Biological Station - ECPv6.15.20//NONSGML v1.0//EN
CALSCALE:GREGORIAN
METHOD:PUBLISH
X-ORIGINAL-URL:https://highlandsbiological.org
X-WR-CALDESC:Events for Highlands Biological Station
REFRESH-INTERVAL;VALUE=DURATION:PT1H
X-Robots-Tag:noindex
X-PUBLISHED-TTL:PT1H
BEGIN:VTIMEZONE
TZID:America/Halifax
BEGIN:DAYLIGHT
TZOFFSETFROM:-0400
TZOFFSETTO:-0300
TZNAME:ADT
DTSTART:20210314T060000
END:DAYLIGHT
BEGIN:STANDARD
TZOFFSETFROM:-0300
TZOFFSETTO:-0400
TZNAME:AST
DTSTART:20211107T050000
END:STANDARD
BEGIN:DAYLIGHT
TZOFFSETFROM:-0400
TZOFFSETTO:-0300
TZNAME:ADT
DTSTART:20220313T060000
END:DAYLIGHT
BEGIN:STANDARD
TZOFFSETFROM:-0300
TZOFFSETTO:-0400
TZNAME:AST
DTSTART:20221106T050000
END:STANDARD
BEGIN:DAYLIGHT
TZOFFSETFROM:-0400
TZOFFSETTO:-0300
TZNAME:ADT
DTSTART:20230312T060000
END:DAYLIGHT
BEGIN:STANDARD
TZOFFSETFROM:-0300
TZOFFSETTO:-0400
TZNAME:AST
DTSTART:20231105T050000
END:STANDARD
END:VTIMEZONE
BEGIN:VEVENT
DTSTART;VALUE=DATE:20220710
DTEND;VALUE=DATE:20220729
DTSTAMP:20260421T124910
CREATED:20211206T161019Z
LAST-MODIFIED:20220119T141335Z
UID:17700-1657411200-1659052799@highlandsbiological.org
SUMMARY:Comparative Temperate/Tropical Ecology
DESCRIPTION:Dr. Jim Costa (WCU/HBS) and Dr. Travis Knowles (Francis Marion University) \nAn introductory exploration of the ecology and biogeography of temperate-zone and tropical biodiversity hotspots\, from the southern Appalachians to Andean Ecuador. Based at two mountain biological field stations (Highlands Biological Station in Highlands\, NC and Wildsumaco Biological Station\, Sumaco Biosphere Reserve\, Ecuador)\, we will take a field-based comparative approach to exploring southern Appalachian and Amazonian Andean montane ecology and biogeography in the spirit of the explorer-naturalists of the eighteenth and nineteenth centuries. We will consider the geological context of the Appalachians and Andes\, comparative biogeography / ecology of these respective regions in terms of the ecological and historical factors that shape their biota\, big-picture patterns of latitudinal and elevational diversity gradients\, principles of forest community structure and function\, and examine comparative species composition and interactions in selected groups as well as soil structure and microbiota. \nPrerequisites: Introductory Biology sequence\, at least one course at the 200 level or above in Biology\, Environmental Science\, or Geosciences/Natural Resources Management\, or permission of instructor. \nClick here for the syllabus. \nStay tuned for updates regarding cost and travel information.
URL:https://highlandsbiological.org/event/comparative-temperate-tropical-ecology/
LOCATION:Highlands Biological Station\, 265 North 6th St\, Highlands\, NC\, 28741\, United States
CATEGORIES:Field Courses
END:VEVENT
BEGIN:VEVENT
DTSTART;VALUE=DATE:20220711
DTEND;VALUE=DATE:20220723
DTSTAMP:20260421T124910
CREATED:20211206T161417Z
LAST-MODIFIED:20220119T141501Z
UID:17705-1657497600-1658534399@highlandsbiological.org
SUMMARY:Southern Appalachian Mayflies\, Stoneflies\, and Caddisflies - Session 1
DESCRIPTION:Instructor: Dr. John Morse (Clemson University Emeritus) \nPlease note that both sessions of this course are identical – you only need to sign up for 1 session. \nNatural history and taxonomy of mayflies (Ephemeroptera)\, stoneflies (Plecoptera)\, and caddisflies (Trichoptera)\, including systematics\, ecology\, and behavior of larvae and adults\, with emphasis on those aspects important in ecological studies\, biological monitoring of water quality\, and sport fishing.  Insects will be collected from mountain stream habitats\, and identifications will be done in the laboratory. \n\n\nPrerequisites: Students are expected to have prior training in zoology\, but not necessarily entomology. \nCost: $1000 course fee + $600 housing fee (if staying on-site) \nClick here for the syllabus.
URL:https://highlandsbiological.org/event/southern-appalachian-mayflies-stoneflies-and-caddisflies/
LOCATION:Highlands Biological Station\, 265 North 6th St\, Highlands\, NC\, 28741\, United States
CATEGORIES:Field Courses
END:VEVENT
BEGIN:VEVENT
DTSTART;VALUE=DATE:20220718
DTEND;VALUE=DATE:20220723
DTSTAMP:20260421T124910
CREATED:20211206T162834Z
LAST-MODIFIED:20220119T141423Z
UID:17716-1658102400-1658534399@highlandsbiological.org
SUMMARY:Rock Outcrop and Cliff Face Communities
DESCRIPTION:Instructors: Laura Boggess (Mars Hill University) and Gary Kaufmann (USDA Forest Service) \nThis course may not be taken for graduate credit. \nThe Southern Appalachians are an area of high bryophyte diversity\, and this course will introduce students to common and some rare mosses\, liverworts\, and hornworts of the region. The class will survey bryophyte diversity by visiting and sampling from a variety of habitats in the vicinity around Highlands\, NC. Laboratory work will involve extensive use of microscopes\, and identifications will rely on microscopic characters and use of dichotomous keys. Students will explore diagnostic features for bryophyte identification and learn common taxa in the field and closeup using microscopes. Lectures will cover differences among mosses\, liverworts\, and hornworts as well as morphological features used to distinguish bryophyte taxa. No prior bryology experience or studies are necessary to take the course\, though students should be willing to work with microscopes and use diagnostic keys for identification in the lab. The course is geared towards botanists\, natural resource professionals\, naturalists\, and students. Prerequisites: a botany\, plant science\, or plant taxonomy course or permission of instructor.   \nPrerequisites: None \nCost: $500 course fee + $300 housing fee (if staying on-site) \nClick here for the syllabus.
URL:https://highlandsbiological.org/event/rock-outcrop-and-cliff-face-communities/
LOCATION:Highlands Biological Station\, 265 North 6th St\, Highlands\, NC\, 28741\, United States
CATEGORIES:Field Courses
END:VEVENT
END:VCALENDAR