BEGIN:VCALENDAR
VERSION:2.0
PRODID:-//Highlands Biological Station - ECPv6.15.20//NONSGML v1.0//EN
CALSCALE:GREGORIAN
METHOD:PUBLISH
X-WR-CALNAME:Highlands Biological Station
X-ORIGINAL-URL:https://highlandsbiological.org
X-WR-CALDESC:Events for Highlands Biological Station
REFRESH-INTERVAL;VALUE=DURATION:PT1H
X-Robots-Tag:noindex
X-PUBLISHED-TTL:PT1H
BEGIN:VTIMEZONE
TZID:America/Halifax
BEGIN:DAYLIGHT
TZOFFSETFROM:-0400
TZOFFSETTO:-0300
TZNAME:ADT
DTSTART:20210314T060000
END:DAYLIGHT
BEGIN:STANDARD
TZOFFSETFROM:-0300
TZOFFSETTO:-0400
TZNAME:AST
DTSTART:20211107T050000
END:STANDARD
BEGIN:DAYLIGHT
TZOFFSETFROM:-0400
TZOFFSETTO:-0300
TZNAME:ADT
DTSTART:20220313T060000
END:DAYLIGHT
BEGIN:STANDARD
TZOFFSETFROM:-0300
TZOFFSETTO:-0400
TZNAME:AST
DTSTART:20221106T050000
END:STANDARD
BEGIN:DAYLIGHT
TZOFFSETFROM:-0400
TZOFFSETTO:-0300
TZNAME:ADT
DTSTART:20230312T060000
END:DAYLIGHT
BEGIN:STANDARD
TZOFFSETFROM:-0300
TZOFFSETTO:-0400
TZNAME:AST
DTSTART:20231105T050000
END:STANDARD
END:VTIMEZONE
BEGIN:VEVENT
DTSTART;VALUE=DATE:20220613
DTEND;VALUE=DATE:20220625
DTSTAMP:20260421T141219
CREATED:20211206T160250Z
LAST-MODIFIED:20220119T141520Z
UID:17696-1655078400-1656115199@highlandsbiological.org
SUMMARY:Vascular Flora of the Blue Ridge
DESCRIPTION:Instructor: Dr. Paul Manos (Duke University) \nThe course is designed for students of all sorts\, professional biologists\, and amateur enthusiasts. The goals are to introduce plant diversity with a community-based approach through field observations of the flora of the Blue Ridge: to emphasize basic distinguishing features among lycophytes\, ferns and seed plants; to focus on field characteristics of common and rare species and their habitats; to use keys to identify species; and to better understand the ecology of the major plant communities of the region and the biogeography of the species. \nPrerequisites: One course in Introductory biology or ecology\, training in natural history or permission of instructor \nCost: $1000 course fee + $600 housing fee (if staying on-site) \nClick here for the syllabus.
URL:https://highlandsbiological.org/event/vascular-flora-of-the-blue-ridge/
LOCATION:Highlands Biological Station\, 265 North 6th St\, Highlands\, NC\, 28741\, United States
CATEGORIES:Field Courses
END:VEVENT
BEGIN:VEVENT
DTSTART;VALUE=DATE:20220620
DTEND;VALUE=DATE:20220625
DTSTAMP:20260421T141219
CREATED:20211206T162644Z
LAST-MODIFIED:20220119T141515Z
UID:17714-1655683200-1656115199@highlandsbiological.org
SUMMARY:Diversity and Identification of Southern Appalachian Leaf Litter Arthropods
DESCRIPTION:Instructors: Dr. Mike Caterino (Clemson University) and Dr. Paul Marek (Virginia Tech) \n\n\n\nA hands-on introduction to field and lab methods for the sampling and identification of arthropods living in leaf litter. Litter sifting will be practiced in multiple habitats. Following Berlese extraction of specimens\, students will learn to identify the major groups and conduct preliminary comparisons of diversity among samples and habitat types. \n\n\n\nPrerequisites: General biology required. A course in general entomology would be useful but not critical. \nCost: $500 course fee + $300 housing fee (if staying on-site). \nClick here for the syllabus.
URL:https://highlandsbiological.org/event/diversity-and-identification-of-southern-appalachian-leaf-litter-arthropods/
LOCATION:Highlands Biological Station\, 265 North 6th St\, Highlands\, NC\, 28741\, United States
CATEGORIES:Field Courses
END:VEVENT
BEGIN:VEVENT
DTSTART;TZID=America/Halifax:20220623T090000
DTEND;TZID=America/Halifax:20220623T180000
DTSTAMP:20260421T141219
CREATED:20220216T160339Z
LAST-MODIFIED:20220216T160339Z
UID:18498-1655974800-1656007200@highlandsbiological.org
SUMMARY:Geology of the Highlands Plateau
DESCRIPTION:Bill Jacobs\, Author of Whence These Special Places? The Geology of Cashiers\, Highlands & Panthertown Valley  \nThis workshop has grown out of Bill Jacobs’ book\, Whence These Special Places? The Geology of Cashiers\, Highlands & Panthertown Valley.  As reflected in both the book and his talks\, Bill is particularly fascinated with how geologic processes\, some dating back more than 500 million years\, have produced today’s mountains and waterfalls.  He will discuss such questions as: \n– How did the rocks in our mountains form and get to where they now are\, and how has that history determined the appearance of today’s landscape?\n– What created the high-elevation area we call the Highlands-Cashiers Plateau?\n– Little Sliding Rock and Glen Falls are both much-loved cascades on the Plateau\, but one is so smooth you can slide on it and the other is a series of jagged precipices – why the difference?\n– What in the world is Shining Rock\, and is there anything else like it in the world?\n– Why is Rock Mountain gently rounded while nearby Chimneytop has a chimney?  What gives Whiteside Mountain its unique character\, with precipitous cliffs standing high above a more gently rounded base? \nThe workshop format will provide time for a richer discussion than is possible in shorter talks\, as well as for questions and examination of rock samples and geologic maps.  To close out the classroom activities\, Bill will provide a “virtual field trip” to numerous nearby sites\, such as Sunset Rock\, Glen Falls\, Little Sliding Rock\, Whiteside Mountain and Devil’s Courthouse\, and the Cullasaja waterfalls\, to help participants better appreciate the geology on display during their future visits to these special places. \nAfter lunch (on your own) Bill will lead an optional excursion to High Falls\, below Lake Glenville Dam.  At this extraordinary site\, participants can examine up close how different rock groups have been complexly mixed together\, and how their different characteristics are reflected in both the exposed rocks and the overall shape of the falls.  (Note – this excursion requires over 600’ of elevation gain on uneven surfaces\, as well as rock-hopping around the base of the falls.  It should be undertaken only by experienced\, confident hikers). \nAs in the book\, Bill will use language and concepts easily understood by non-scientists\, with numerous photographs and illustrations.   He will also provide several handouts\, and will be delighted to respond to questions\, whether about the book or the geology. Signed copies of Whence These Special Places? will be available for purchase through Highlands Biological Station’s Nature Center.  Additional information about both the book and its author may be found at www.GreatRockPress.com.  \nCost: $60 for morning session (9am – 12pm); $100 for morning session and hike to High Falls (strenuous) in afternoon (1pm – 6pm). \nClick here to register.
URL:https://highlandsbiological.org/event/geology-of-the-highlands-plateau/
LOCATION:Highlands Biological Station\, 265 North 6th St\, Highlands\, NC\, 28741\, United States
CATEGORIES:Field Courses
END:VEVENT
END:VCALENDAR