BEGIN:VCALENDAR
VERSION:2.0
PRODID:-//Highlands Biological Station - ECPv6.15.20//NONSGML v1.0//EN
CALSCALE:GREGORIAN
METHOD:PUBLISH
X-ORIGINAL-URL:https://highlandsbiological.org
X-WR-CALDESC:Events for Highlands Biological Station
REFRESH-INTERVAL;VALUE=DURATION:PT1H
X-Robots-Tag:noindex
X-PUBLISHED-TTL:PT1H
BEGIN:VTIMEZONE
TZID:UTC
BEGIN:STANDARD
TZOFFSETFROM:+0000
TZOFFSETTO:+0000
TZNAME:UTC
DTSTART:20200101T000000
END:STANDARD
END:VTIMEZONE
BEGIN:VEVENT
DTSTART;VALUE=DATE:20210712
DTEND;VALUE=DATE:20210717
DTSTAMP:20260420T124411
CREATED:20210212T010937Z
LAST-MODIFIED:20210212T010937Z
UID:15063-1626048000-1626479999@highlandsbiological.org
SUMMARY:Field to Database: Collecting Biodiversity Data in the Age of Global Databases
DESCRIPTION:FIELD TO DATABASE: COLLECTING BIODIVERSITY DATA IN THE AGE OF GLOBAL DATABASES with Dr. Joey Shaw\, UT-Chattanooga
URL:https://highlandsbiological.org/event/field-to-database-collecting-biodiversity-data-in-the-age-of-global-databases/
LOCATION:Highlands Biological Station\, 265 North 6th St\, Highlands\, NC\, 28741\, United States
CATEGORIES:Field Courses
END:VEVENT
BEGIN:VEVENT
DTSTART;VALUE=DATE:20210712
DTEND;VALUE=DATE:20210724
DTSTAMP:20260420T124411
CREATED:20210212T010807Z
LAST-MODIFIED:20210212T010807Z
UID:15061-1626048000-1627084799@highlandsbiological.org
SUMMARY:Fleshy Fungi of the Highlands Plateau
DESCRIPTION:FLESHY FUNGI OF THE HIGHLANDS PLATEAU with Dr. Andy Methven\, Eastern Illinois University (Emeritus)
URL:https://highlandsbiological.org/event/fleshy-fungi-of-the-highlands-plateau/
LOCATION:Highlands Biological Station\, 265 North 6th St\, Highlands\, NC\, 28741\, United States
CATEGORIES:Field Courses
END:VEVENT
END:VCALENDAR