BEGIN:VCALENDAR
VERSION:2.0
PRODID:-//Highlands Biological Station - ECPv6.15.20//NONSGML v1.0//EN
CALSCALE:GREGORIAN
METHOD:PUBLISH
X-WR-CALNAME:Highlands Biological Station
X-ORIGINAL-URL:https://highlandsbiological.org
X-WR-CALDESC:Events for Highlands Biological Station
REFRESH-INTERVAL;VALUE=DURATION:PT1H
X-Robots-Tag:noindex
X-PUBLISHED-TTL:PT1H
BEGIN:VTIMEZONE
TZID:UTC
BEGIN:STANDARD
TZOFFSETFROM:+0000
TZOFFSETTO:+0000
TZNAME:UTC
DTSTART:20200101T000000
END:STANDARD
END:VTIMEZONE
BEGIN:VEVENT
DTSTART;VALUE=DATE:20210614
DTEND;VALUE=DATE:20210627
DTSTAMP:20260419T230627
CREATED:20210212T005958Z
LAST-MODIFIED:20210212T005958Z
UID:15051-1623628800-1624751999@highlandsbiological.org
SUMMARY:Southern Appalachian Mammals
DESCRIPTION:SOUTHERN APPALACHIAN MAMMALS with Dr. Ed Pivorun\, Clemson University and Dr. Rada Petric\, UNC-Greensboro
URL:https://highlandsbiological.org/event/southern-appalachian-mammals/
LOCATION:NC
CATEGORIES:Field Courses
END:VEVENT
END:VCALENDAR