BEGIN:VCALENDAR
VERSION:2.0
PRODID:-//Highlands Biological Station - ECPv6.15.20//NONSGML v1.0//EN
CALSCALE:GREGORIAN
METHOD:PUBLISH
X-ORIGINAL-URL:https://highlandsbiological.org
X-WR-CALDESC:Events for Highlands Biological Station
REFRESH-INTERVAL;VALUE=DURATION:PT1H
X-Robots-Tag:noindex
X-PUBLISHED-TTL:PT1H
BEGIN:VTIMEZONE
TZID:America/Halifax
BEGIN:DAYLIGHT
TZOFFSETFROM:-0400
TZOFFSETTO:-0300
TZNAME:ADT
DTSTART:20220313T060000
END:DAYLIGHT
BEGIN:STANDARD
TZOFFSETFROM:-0300
TZOFFSETTO:-0400
TZNAME:AST
DTSTART:20221106T050000
END:STANDARD
BEGIN:DAYLIGHT
TZOFFSETFROM:-0400
TZOFFSETTO:-0300
TZNAME:ADT
DTSTART:20230312T060000
END:DAYLIGHT
BEGIN:STANDARD
TZOFFSETFROM:-0300
TZOFFSETTO:-0400
TZNAME:AST
DTSTART:20231105T050000
END:STANDARD
BEGIN:DAYLIGHT
TZOFFSETFROM:-0400
TZOFFSETTO:-0300
TZNAME:ADT
DTSTART:20240310T060000
END:DAYLIGHT
BEGIN:STANDARD
TZOFFSETFROM:-0300
TZOFFSETTO:-0400
TZNAME:AST
DTSTART:20241103T050000
END:STANDARD
END:VTIMEZONE
BEGIN:VEVENT
DTSTART;VALUE=DATE:20230508
DTEND;VALUE=DATE:20230513
DTSTAMP:20260420T094105
CREATED:20230103T180559Z
LAST-MODIFIED:20230103T180559Z
UID:20822-1683504000-1683935999@highlandsbiological.org
SUMMARY:Grasses of the Southern Appalachians
DESCRIPTION:Instructor: Dr. Paul McKenzie (USFWS\, Emeritus) \nThis class will include a detailed description of the grass flower\, inflorescence type\, habitat and ecological associations\, Tribal affinities\, distribution\, and habit differences. The class will be taught in four parts: 1) power point presentation and classroom instruction\, 2) examination of important features with hand lens and dissecting scope\, 3) team keying of grass specimens\, and 4) field identification. \nDichotomous keys\, hard copy print outs of power point presentation\, and other handouts will be provided by the instructor. Tips for proper collection; processing; label development; herbaria deposition of grass specimens; and suggested websites/electronic tools helpful in grass study will also be discussed. \nSuggested references/materials recommended or required (*) include the following:\n1. Hand lens (*): A 16x is preferred over a 10x loupe.\n2. Clark\, L.G. and R.W. Pohl. Agnes Chase’s First Book of Grasses- (1996)- the Structure of grasses explained for beginners. 4th Smithsonian Books. Washington\, D.C. 127 pp. This book is inexpensive and an absolute must for anyone wanting to understand grass identification.\n3. “Plant Identification Terminology- An Illustrated Glossary” by James G. Harris and Melinda Woolf Harris (2001)- Second Edition. Because dichotomous keys will often use terms related to various plant structures or texture that some students are unfamiliar with\, a good illustrated glossary that both defines and illustrates terms is highly recommended for any plant identification course. I have yet to find one better than this one and at $20.95 for a paper back copy from Amazon\, it is a steal \nPre-requisites: None\, but individuals with experience in plant taxonomy or have taken another plant identification class will grasp the material quicker.
URL:https://highlandsbiological.org/event/grasses-of-the-southern-appalachians/
LOCATION:Highlands Biological Station\, 265 North 6th St\, Highlands\, NC\, 28741\, United States
CATEGORIES:Field Courses
END:VEVENT
BEGIN:VEVENT
DTSTART;VALUE=DATE:20230515
DTEND;VALUE=DATE:20230520
DTSTAMP:20260420T094105
CREATED:20230104T163905Z
LAST-MODIFIED:20230104T163905Z
UID:20828-1684108800-1684540799@highlandsbiological.org
SUMMARY:Mosquitoes of the Southern Appalachians
DESCRIPTION:Instructor: Dr. Brian Byrd (Western Carolina University) \nCheck back later for a description and pre-requisites.
URL:https://highlandsbiological.org/event/mosquitoes-of-the-southern-appalachians/
LOCATION:Highlands Biological Station\, 265 North 6th St\, Highlands\, NC\, 28741\, United States
CATEGORIES:Field Courses
END:VEVENT
BEGIN:VEVENT
DTSTART;VALUE=DATE:20230515
DTEND;VALUE=DATE:20230527
DTSTAMP:20260420T094105
CREATED:20230104T164027Z
LAST-MODIFIED:20230104T164027Z
UID:20830-1684108800-1685145599@highlandsbiological.org
SUMMARY:Southern Appalachian Mayflies\, Stoneflies\, and Caddisflies
DESCRIPTION:Instructor: Dr. John Morse \nNatural history and taxonomy of mayflies (Ephemeroptera)\, stoneflies (Plecoptera)\, and caddisflies (Trichoptera)\, including systematics\, ecology\, and behavior of larvae and adults\, with emphasis on those aspects important in ecological studies\, biological monitoring of water quality\, and sport fishing.  Insects will be collected from mountain stream habitats\, and identifications will be done in the laboratory.\n\nPre-requisites:Students are expected to have prior training in zoology\, but not necessarily entomology
URL:https://highlandsbiological.org/event/southern-appalachian-mayflies-stoneflies-and-caddisflies-2/
LOCATION:Highlands Biological Station\, 265 North 6th St\, Highlands\, NC\, 28741\, United States
CATEGORIES:Field Courses
END:VEVENT
BEGIN:VEVENT
DTSTART;VALUE=DATE:20230522
DTEND;VALUE=DATE:20230603
DTSTAMP:20260420T094105
CREATED:20230104T164219Z
LAST-MODIFIED:20230104T164219Z
UID:20832-1684713600-1685750399@highlandsbiological.org
SUMMARY:Introduction to Plant Ecophysiology in the Southern Appalachian Mountains
DESCRIPTION:Instructor: Dr. Howie Neufeld (Appalachian State University) \nA short course on basic plant ecophysiology instrumentation and techniques\, designed for beginners and advanced students alike. Students will learn the operating principles behind plant gas exchange (photosynthesis and transpiration)\, pigment extraction\, and plant-water relations. This will include measuring plant water stress and hydraulics\, which is how plants move liquid water in their stems. Students will become proficient in the use of portable gas exchange systems\, pressure chambers for measuring water stress\, hydraulic conductance systems\, and fluorescence systems for measuring leaf stress. Much of the course will be field-based and measurements will be done on native plants in the lab and field; weather permitting\, students will take field trips to different plant habitats in the Southern Appalachians and learn about the environmental factors governing growth and survival in these unique areas. After mastering the instrumentation and theory during the first week\, students will work in groups to plan and conduct a field experiment during the second week\, the results of which will be presented at a mini symposium at the conclusion of the course. \nPre-requisites: Students must have completed the introductory biology sequence at their institution
URL:https://highlandsbiological.org/event/introduction-to-plant-ecophysiology-in-the-southern-appalachian-mountains/
LOCATION:Highlands Biological Station\, 265 North 6th St\, Highlands\, NC\, 28741\, United States
CATEGORIES:Field Courses
END:VEVENT
END:VCALENDAR