BEGIN:VCALENDAR
VERSION:2.0
PRODID:-//Highlands Biological Station - ECPv6.15.20//NONSGML v1.0//EN
CALSCALE:GREGORIAN
METHOD:PUBLISH
X-WR-CALNAME:Highlands Biological Station
X-ORIGINAL-URL:https://highlandsbiological.org
X-WR-CALDESC:Events for Highlands Biological Station
REFRESH-INTERVAL;VALUE=DURATION:PT1H
X-Robots-Tag:noindex
X-PUBLISHED-TTL:PT1H
BEGIN:VTIMEZONE
TZID:America/Halifax
BEGIN:DAYLIGHT
TZOFFSETFROM:-0400
TZOFFSETTO:-0300
TZNAME:ADT
DTSTART:20220313T060000
END:DAYLIGHT
BEGIN:STANDARD
TZOFFSETFROM:-0300
TZOFFSETTO:-0400
TZNAME:AST
DTSTART:20221106T050000
END:STANDARD
BEGIN:DAYLIGHT
TZOFFSETFROM:-0400
TZOFFSETTO:-0300
TZNAME:ADT
DTSTART:20230312T060000
END:DAYLIGHT
BEGIN:STANDARD
TZOFFSETFROM:-0300
TZOFFSETTO:-0400
TZNAME:AST
DTSTART:20231105T050000
END:STANDARD
BEGIN:DAYLIGHT
TZOFFSETFROM:-0400
TZOFFSETTO:-0300
TZNAME:ADT
DTSTART:20240310T060000
END:DAYLIGHT
BEGIN:STANDARD
TZOFFSETFROM:-0300
TZOFFSETTO:-0400
TZNAME:AST
DTSTART:20241103T050000
END:STANDARD
END:VTIMEZONE
BEGIN:VEVENT
DTSTART;VALUE=DATE:20230515
DTEND;VALUE=DATE:20230527
DTSTAMP:20260421T163053
CREATED:20230104T164027Z
LAST-MODIFIED:20230104T164027Z
UID:20830-1684108800-1685145599@highlandsbiological.org
SUMMARY:Southern Appalachian Mayflies\, Stoneflies\, and Caddisflies
DESCRIPTION:Instructor: Dr. John Morse \nNatural history and taxonomy of mayflies (Ephemeroptera)\, stoneflies (Plecoptera)\, and caddisflies (Trichoptera)\, including systematics\, ecology\, and behavior of larvae and adults\, with emphasis on those aspects important in ecological studies\, biological monitoring of water quality\, and sport fishing.  Insects will be collected from mountain stream habitats\, and identifications will be done in the laboratory.\n\nPre-requisites:Students are expected to have prior training in zoology\, but not necessarily entomology
URL:https://highlandsbiological.org/event/southern-appalachian-mayflies-stoneflies-and-caddisflies-2/
LOCATION:Highlands Biological Station\, 265 North 6th St\, Highlands\, NC\, 28741\, United States
CATEGORIES:Field Courses
END:VEVENT
BEGIN:VEVENT
DTSTART;TZID=America/Halifax:20230520T170000
DTEND;TZID=America/Halifax:20230520T200000
DTSTAMP:20260421T163053
CREATED:20230501T182256Z
LAST-MODIFIED:20230501T182256Z
UID:21405-1684602000-1684612800@highlandsbiological.org
SUMMARY:BEE Kind  |  Forest Bathing Walk (5/20)
DESCRIPTION:Saturday\, May 20th | 5 – 8 PM | Register HERE \nHighlands Biological Station’s North Campus (111 Lower Lake Road) \n$20/ person | Registration required \nJoin Robin Hancock of Renewal by Nature for a forest bathing walk through the Highlands Botanical Garden. This rather intense\, yet relaxed\, practice renews us in a way that allows our inner peace and health to radiate beyond the Forest Therapy walk and positively impact our day to day experiences. In addition to the psychological and emotional benefits\, Forest Therapy has a positive impact on human physiology in the form of improved biometric measures and function. \nEach walk is 3 hours in length\, and consists of a series of invitations crafted to encourage the participants to connect with nature through their senses. Events are rain or shine\, unless the weather is threatening. \n  \nMental health awareness starts with kindness! This event is being held as part of BEE Kind\, an initiative from the Counseling Center of Highlands and Highlands-Cashiers Health Foundation to raise awareness about the month of May as Mental Health Awareness Month.
URL:https://highlandsbiological.org/event/bee-kind-forest-bathing-walk-5-20/
LOCATION:HBS North Campus\, 111 Lower Lake Road\, Highlands\, NC\, 28741\, United States
END:VEVENT
END:VCALENDAR