BEGIN:VCALENDAR
VERSION:2.0
PRODID:-//Highlands Biological Station - ECPv6.15.20//NONSGML v1.0//EN
CALSCALE:GREGORIAN
METHOD:PUBLISH
X-ORIGINAL-URL:https://highlandsbiological.org
X-WR-CALDESC:Events for Highlands Biological Station
REFRESH-INTERVAL;VALUE=DURATION:PT1H
X-Robots-Tag:noindex
X-PUBLISHED-TTL:PT1H
BEGIN:VTIMEZONE
TZID:America/Halifax
BEGIN:DAYLIGHT
TZOFFSETFROM:-0400
TZOFFSETTO:-0300
TZNAME:ADT
DTSTART:20210314T060000
END:DAYLIGHT
BEGIN:STANDARD
TZOFFSETFROM:-0300
TZOFFSETTO:-0400
TZNAME:AST
DTSTART:20211107T050000
END:STANDARD
BEGIN:DAYLIGHT
TZOFFSETFROM:-0400
TZOFFSETTO:-0300
TZNAME:ADT
DTSTART:20220313T060000
END:DAYLIGHT
BEGIN:STANDARD
TZOFFSETFROM:-0300
TZOFFSETTO:-0400
TZNAME:AST
DTSTART:20221106T050000
END:STANDARD
BEGIN:DAYLIGHT
TZOFFSETFROM:-0400
TZOFFSETTO:-0300
TZNAME:ADT
DTSTART:20230312T060000
END:DAYLIGHT
BEGIN:STANDARD
TZOFFSETFROM:-0300
TZOFFSETTO:-0400
TZNAME:AST
DTSTART:20231105T050000
END:STANDARD
END:VTIMEZONE
BEGIN:VEVENT
DTSTART;VALUE=DATE:20220814
DTEND;VALUE=DATE:20220821
DTSTAMP:20260421T040227
CREATED:20211206T164015Z
LAST-MODIFIED:20220112T172428Z
UID:17724-1660435200-1661039999@highlandsbiological.org
SUMMARY:Mushrooms of the Carolinas and Southern Appalachian Region
DESCRIPTION:Dr. Alan Bessette and Arleen Bessette (Authors of multiple mushroom field guides) \n** This workshop is currently full and has an extensive waitlist. If additional spots open up we will let the public know via social media and on our website. \nThis workshop will focus on the mycological diversity of North & South Carolina\, and the Southern Appalachian Region. Activities will consist of lectures/presentations on topics such as (but not limited to): Identification Techniques\, Major Groups of Fungi\, Ecology\, Edibility & Toxicity; daily field work (forays); and laboratory/class activities where participants will be introduced to the use of field keys\, microscopy\, documentary photographic techniques\, and more. Designed for beginners wanting a solid introduction to mycology\, and for more advanced individuals wishing to pursue their personal mycological interests\, this workshop facilitates learning in a relaxed group setting in a unique and mycologically rich area. \nClick here for the syllabus. \nPrerequisites: None \nCost: $500 course fee + on-site housing for $300 per person for duration of workshop
URL:https://highlandsbiological.org/event/mushrooms-of-the-carolinas-and-southern-appalachian-region/
LOCATION:Highlands Biological Station\, 265 North 6th St\, Highlands\, NC\, 28741\, United States
CATEGORIES:Field Courses
END:VEVENT
END:VCALENDAR