BEGIN:VCALENDAR
VERSION:2.0
PRODID:-//Highlands Biological Station - ECPv6.15.20//NONSGML v1.0//EN
CALSCALE:GREGORIAN
METHOD:PUBLISH
X-ORIGINAL-URL:https://highlandsbiological.org
X-WR-CALDESC:Events for Highlands Biological Station
REFRESH-INTERVAL;VALUE=DURATION:PT1H
X-Robots-Tag:noindex
X-PUBLISHED-TTL:PT1H
BEGIN:VTIMEZONE
TZID:UTC
BEGIN:STANDARD
TZOFFSETFROM:+0000
TZOFFSETTO:+0000
TZNAME:UTC
DTSTART:20200101T000000
END:STANDARD
END:VTIMEZONE
BEGIN:VEVENT
DTSTART;VALUE=DATE:20210726
DTEND;VALUE=DATE:20210731
DTSTAMP:20260420T110034
CREATED:20210212T011056Z
LAST-MODIFIED:20210212T011056Z
UID:15065-1627257600-1627689599@highlandsbiological.org
SUMMARY:Conservation Genetics of Salamanders
DESCRIPTION:CONSERVATION GENETICS OF SALAMANDERS with Dr. J. J. Apodaca\, Tangled Bank Conservation
URL:https://highlandsbiological.org/event/conservation-genetics-of-salamanders/
LOCATION:Highlands Biological Station\, 265 North 6th St\, Highlands\, NC\, 28741\, United States
CATEGORIES:Field Courses
END:VEVENT
BEGIN:VEVENT
DTSTART;VALUE=DATE:20210726
DTEND;VALUE=DATE:20210731
DTSTAMP:20260420T110034
CREATED:20210212T011255Z
LAST-MODIFIED:20210212T011255Z
UID:15067-1627257600-1627689599@highlandsbiological.org
SUMMARY:Research Applications of Drones in Landscape Ecology
DESCRIPTION:RESEARCH APPLICATIONS OF DRONES IN LANDSCAPE ECOLOGY with Dr. Susan Cohen and Mr. Fleming Talton\, UNC at Chapel Hill Institute for the Environment
URL:https://highlandsbiological.org/event/research-applications-of-drones-in-landscape-ecology/
LOCATION:Highlands Biological Station\, 265 North 6th St\, Highlands\, NC\, 28741\, United States
CATEGORIES:Field Courses
END:VEVENT
END:VCALENDAR