BEGIN:VCALENDAR
VERSION:2.0
PRODID:-//Highlands Biological Station - ECPv6.15.20//NONSGML v1.0//EN
CALSCALE:GREGORIAN
METHOD:PUBLISH
X-ORIGINAL-URL:https://highlandsbiological.org
X-WR-CALDESC:Events for Highlands Biological Station
REFRESH-INTERVAL;VALUE=DURATION:PT1H
X-Robots-Tag:noindex
X-PUBLISHED-TTL:PT1H
BEGIN:VTIMEZONE
TZID:UTC
BEGIN:STANDARD
TZOFFSETFROM:+0000
TZOFFSETTO:+0000
TZNAME:UTC
DTSTART:20200101T000000
END:STANDARD
END:VTIMEZONE
BEGIN:VEVENT
DTSTART;VALUE=DATE:20210628
DTEND;VALUE=DATE:20210703
DTSTAMP:20260420T091616
CREATED:20210212T010338Z
LAST-MODIFIED:20210212T010338Z
UID:15055-1624838400-1625270399@highlandsbiological.org
SUMMARY:Biology and Conservation of Lichens
DESCRIPTION:BIOLOGY AND CONSERVATION OF LICHENS with Dr. Jessica Allen\, Eastern Washington University and Dr. James Lendemer\, New York Botanical Garden
URL:https://highlandsbiological.org/event/biology-and-conservation-of-lichens/
LOCATION:Highlands Biological Station\, 265 North 6th St\, Highlands\, NC\, 28741\, United States
CATEGORIES:Field Courses
END:VEVENT
BEGIN:VEVENT
DTSTART;VALUE=DATE:20210628
DTEND;VALUE=DATE:20210710
DTSTAMP:20260420T091616
CREATED:20210212T010525Z
LAST-MODIFIED:20210212T010525Z
UID:15057-1624838400-1625875199@highlandsbiological.org
SUMMARY:Southern Appalachian Mayflies\, Stoneflies\, and Caddisflies (Session 2)
DESCRIPTION:SOUTHERN APPALACHIAN MAYFLIES\, STONEFLIES\, AND CADDISFLIES (SESSION 2) with Dr. John Morse\, Clemson University (Emeritus)
URL:https://highlandsbiological.org/event/southern-appalachian-mayflies-stoneflies-and-caddisflies-session-2/
LOCATION:Highlands Biological Station\, 265 North 6th St\, Highlands\, NC\, 28741\, United States
CATEGORIES:Field Courses
END:VEVENT
BEGIN:VEVENT
DTSTART;TZID=UTC:20210629T210000
DTEND;TZID=UTC:20210629T220000
DTSTAMP:20260420T091616
CREATED:20210607T232402Z
LAST-MODIFIED:20210607T234024Z
UID:15886-1625000400-1625004000@highlandsbiological.org
SUMMARY:Salamander Meander
DESCRIPTION:Salamander MeanderDates: June 1st\, June 29th\, & July 27thTime: 9pm-10pm Ages: All ages welcomeCost: FREE \nJoin the Highlands Nature Center as we search for salamanders in the Botanical Garden! Discover strange and fascinating facts about our slimy amphibian friends\, then join naturalists on a walk through the gardens to find local species. Please bring a flashlight for this adventure! This program is weather-dependent.
URL:https://highlandsbiological.org/event/salamander-meander-4/
LOCATION:Highlands Nature Center\, 930 Horse Cove Rd.\, Highlands\, NC\, 28741\, United States
CATEGORIES:Nature Center Nights
END:VEVENT
END:VCALENDAR