BEGIN:VCALENDAR
VERSION:2.0
PRODID:-//Highlands Biological Station - ECPv6.15.20//NONSGML v1.0//EN
CALSCALE:GREGORIAN
METHOD:PUBLISH
X-WR-CALNAME:Highlands Biological Station
X-ORIGINAL-URL:https://highlandsbiological.org
X-WR-CALDESC:Events for Highlands Biological Station
REFRESH-INTERVAL;VALUE=DURATION:PT1H
X-Robots-Tag:noindex
X-PUBLISHED-TTL:PT1H
BEGIN:VTIMEZONE
TZID:UTC
BEGIN:STANDARD
TZOFFSETFROM:+0000
TZOFFSETTO:+0000
TZNAME:UTC
DTSTART:20200101T000000
END:STANDARD
END:VTIMEZONE
BEGIN:VEVENT
DTSTART;VALUE=DATE:20210614
DTEND;VALUE=DATE:20210626
DTSTAMP:20260420T091416
CREATED:20210212T010157Z
LAST-MODIFIED:20210212T010157Z
UID:15053-1623628800-1624665599@highlandsbiological.org
SUMMARY:Southern Appalachian Mayflies\, Stoneflies\, & Caddisflies (Session 1)
DESCRIPTION:SOUTHERN APPALACHIAN MAYFLIES\, STONEFLIES\, AND CADDISFLIES (SESSION 1) with Dr. John Morse\, Clemson University (Emeritus)
URL:https://highlandsbiological.org/event/southern-appalachian-mayflies-stoneflies-caddisflies-session-1/
LOCATION:Highlands Biological Station\, 265 North 6th St\, Highlands\, NC\, 28741\, United States
CATEGORIES:Field Courses
END:VEVENT
BEGIN:VEVENT
DTSTART;VALUE=DATE:20210614
DTEND;VALUE=DATE:20210627
DTSTAMP:20260420T091416
CREATED:20210212T005958Z
LAST-MODIFIED:20210212T005958Z
UID:15051-1623628800-1624751999@highlandsbiological.org
SUMMARY:Southern Appalachian Mammals
DESCRIPTION:SOUTHERN APPALACHIAN MAMMALS with Dr. Ed Pivorun\, Clemson University and Dr. Rada Petric\, UNC-Greensboro
URL:https://highlandsbiological.org/event/southern-appalachian-mammals/
LOCATION:NC
CATEGORIES:Field Courses
END:VEVENT
BEGIN:VEVENT
DTSTART;TZID=UTC:20210622T210000
DTEND;TZID=UTC:20210622T220000
DTSTAMP:20260420T091416
CREATED:20210607T232744Z
LAST-MODIFIED:20210607T232744Z
UID:15890-1624395600-1624399200@highlandsbiological.org
SUMMARY:A Buggy Evening
DESCRIPTION:A Buggy Evening\nDates: June 22nd & July 20th\nTime: 9pm-10pm Ages: All ages welcome\nCost: FREE \nExperience the world of our smallest nocturnal creatures—insects! Learn to identify unique and beautiful insects then join naturalists to sample for fireflies\, moths\, and more in the Botanical Garden. Please bring a flashlight for this adventure! This program is weather-dependent. \n 
URL:https://highlandsbiological.org/event/a-buggy-evening-3/
LOCATION:Highlands Nature Center\, 930 Horse Cove Rd.\, Highlands\, NC\, 28741\, United States
CATEGORIES:Nature Center Nights
END:VEVENT
END:VCALENDAR