BEGIN:VCALENDAR
VERSION:2.0
PRODID:-//Highlands Biological Station - ECPv6.15.20//NONSGML v1.0//EN
CALSCALE:GREGORIAN
METHOD:PUBLISH
X-ORIGINAL-URL:https://highlandsbiological.org
X-WR-CALDESC:Events for Highlands Biological Station
REFRESH-INTERVAL;VALUE=DURATION:PT1H
X-Robots-Tag:noindex
X-PUBLISHED-TTL:PT1H
BEGIN:VTIMEZONE
TZID:UTC
BEGIN:STANDARD
TZOFFSETFROM:+0000
TZOFFSETTO:+0000
TZNAME:UTC
DTSTART:20200101T000000
END:STANDARD
END:VTIMEZONE
BEGIN:VEVENT
DTSTART;VALUE=DATE:20210531
DTEND;VALUE=DATE:20210612
DTSTAMP:20260420T091540
CREATED:20210212T005700Z
LAST-MODIFIED:20210212T005700Z
UID:15046-1622419200-1623455999@highlandsbiological.org
SUMMARY:Biology and Conservation of Birds
DESCRIPTION:BIOLOGY AND CONSERVATION OF BIRDS with Dr. Rob Bierregaard\, Drexel University & Academy of Natural Sciences
URL:https://highlandsbiological.org/event/biology-and-conservation-of-birds/
LOCATION:Highlands Biological Station\, 265 North 6th St\, Highlands\, NC\, 28741\, United States
CATEGORIES:Field Courses
END:VEVENT
BEGIN:VEVENT
DTSTART;VALUE=DATE:20210531
DTEND;VALUE=DATE:20210612
DTSTAMP:20260420T091540
CREATED:20210212T005825Z
LAST-MODIFIED:20210212T005825Z
UID:15049-1622419200-1623455999@highlandsbiological.org
SUMMARY:Biology of Southern Appalachian Salamanders
DESCRIPTION:BIOLOGY OF SOUTHERN APPALACHIAN SALAMANDERS with Dr. Joe Pechmann\, WCU and Dr. Ken Kozak\, University of Minnesota
URL:https://highlandsbiological.org/event/biology-of-southern-appalachian-salamanders/
LOCATION:Highlands Biological Station\, 265 North 6th St\, Highlands\, NC\, 28741\, United States
CATEGORIES:Field Courses
END:VEVENT
BEGIN:VEVENT
DTSTART;TZID=UTC:20210608T210000
DTEND;TZID=UTC:20210608T220000
DTSTAMP:20260420T091540
CREATED:20210607T231344Z
LAST-MODIFIED:20210607T231452Z
UID:15878-1623186000-1623189600@highlandsbiological.org
SUMMARY:Starlight Stroll
DESCRIPTION:Starlight Stroll\nDates: June 8th & July 6th\nTime: 9pm-10pm Ages: All ages welcome\nCost: FREE \nUnlock the history and mystery of the night sky as we study the stars! Hear stories from different cultures and learn to identify summer constellations. Please bring a flashlight for this adventure! This program is weather-dependent. \n 
URL:https://highlandsbiological.org/event/starlight-stroll-3/
LOCATION:Highlands Nature Center\, 930 Horse Cove Rd.\, Highlands\, NC\, 28741\, United States
CATEGORIES:Nature Center Nights
END:VEVENT
END:VCALENDAR